BEGIN:VCALENDAR
VERSION:2.0
PRODID:icalendar-ruby
CALSCALE:GREGORIAN
BEGIN:VEVENT
DTSTAMP:20260423T133013Z
UID:03488b0b-6f14-4bd6-8512-462a39f8d5d8
DTSTART;TZID=Pacific/Auckland:20260426T120000
DTEND;TZID=Pacific/Auckland:20260426T123000
DESCRIPTION:Property ID# 607014
SUMMARY:Openhome for 12 Faulkner Street
END:VEVENT
END:VCALENDAR
