BEGIN:VCALENDAR
VERSION:2.0
PRODID:icalendar-ruby
CALSCALE:GREGORIAN
BEGIN:VEVENT
DTSTAMP:20260423T131517Z
UID:963e4d84-f289-4cd7-bf04-a9cbb64ef685
DTSTART;TZID=Pacific/Auckland:20260426T140000
DTEND;TZID=Pacific/Auckland:20260426T143000
DESCRIPTION:Property ID# 607139
SUMMARY:Openhome for 26A Short Street
END:VEVENT
END:VCALENDAR
