BEGIN:VCALENDAR
VERSION:2.0
PRODID:icalendar-ruby
CALSCALE:GREGORIAN
BEGIN:VEVENT
DTSTAMP:20260422T121601Z
UID:e82c069d-f1c6-4c26-a724-b41243904389
DTSTART;TZID=Pacific/Auckland:20260426T130000
DTEND;TZID=Pacific/Auckland:20260426T133000
DESCRIPTION:Property ID# 604985
SUMMARY:Openhome for 132A Eversham Road
END:VEVENT
END:VCALENDAR
