BEGIN:VCALENDAR
VERSION:2.0
PRODID:icalendar-ruby
CALSCALE:GREGORIAN
BEGIN:VEVENT
DTSTAMP:20260421T131037Z
UID:65fca87e-0e5f-41e9-aa41-f439168a59b4
DTSTART;VALUE=DATE:20260521
DESCRIPTION:Property ID# 607039\, Locatoin: Auction Rooms\, 247 Cameron Roa
 d\, Tauranga. Unless sold prior\, Time: 1:00PM
SUMMARY:Auction for 64B Sixteenth Avenue
END:VEVENT
END:VCALENDAR
