BEGIN:VCALENDAR
VERSION:2.0
PRODID:icalendar-ruby
CALSCALE:GREGORIAN
BEGIN:VEVENT
DTSTAMP:20260421T131516Z
UID:d4a27c7b-4d06-4d28-aebb-167ccfd28404
DTSTART;VALUE=DATE:20260513
DESCRIPTION:Property ID# 606909\, Locatoin: Harcourts Auction Rooms\, 1 Thi
 rd Avenue\, Tauranga\, Time: 11:30AM
SUMMARY:Auction for 4A London Place
END:VEVENT
END:VCALENDAR
