BEGIN:VCALENDAR
VERSION:2.0
PRODID:icalendar-ruby
CALSCALE:GREGORIAN
BEGIN:VEVENT
DTSTAMP:20260423T105524Z
UID:d4a61171-6951-48a4-bcb0-d1e6caab0cfd
DTSTART;VALUE=DATE:20260325
DESCRIPTION:Property ID# 604908\, Locatoin: at 11:30am\, Harcourts Auction 
 Room\, 1 Third Avenue\, Tauranga\, Time: 12:00PM
SUMMARY:Auction for 
END:VEVENT
END:VCALENDAR
