BEGIN:VCALENDAR
VERSION:2.0
PRODID:icalendar-ruby
CALSCALE:GREGORIAN
BEGIN:VEVENT
DTSTAMP:20260419T144316Z
UID:6202fd97-6b6a-4a54-b5f1-b3a464d7236e
DTSTART;VALUE=DATE:20260311
DESCRIPTION:Property ID# 603686\, Locatoin: Harcourts Auction Room\, 1 Thir
 d Avenue\, Tauranga\, Time: 11:30AM
SUMMARY:Auction for 
END:VEVENT
END:VCALENDAR
