BEGIN:VCALENDAR
VERSION:2.0
PRODID:icalendar-ruby
CALSCALE:GREGORIAN
BEGIN:VEVENT
DTSTAMP:20260422T153318Z
UID:2ac01d75-4a2f-4255-8476-08d6032eaeaf
DTSTART;VALUE=DATE:20251218
DESCRIPTION:Property ID# 601379\, Time: 4:00PM
SUMMARY:Auction for 
END:VEVENT
END:VCALENDAR
