BEGIN:VCALENDAR
VERSION:2.0
PRODID:icalendar-ruby
CALSCALE:GREGORIAN
BEGIN:VEVENT
DTSTAMP:20260422T121500Z
UID:6f4d3a9d-cd6c-429b-9251-d9fd6e8f968f
DTSTART;VALUE=DATE:20260128
DESCRIPTION:Property ID# 601377\, Time: 1:00PM
SUMMARY:Auction for 
END:VEVENT
END:VCALENDAR
