BEGIN:VCALENDAR
VERSION:2.0
PRODID:icalendar-ruby
CALSCALE:GREGORIAN
BEGIN:VEVENT
DTSTAMP:20260421T083402Z
UID:bb8b3c11-2ceb-4cf0-a991-8bbe527b3d95
DTSTART;VALUE=DATE:20251103
DESCRIPTION:Property ID# 599069\, Locatoin: Grenadier House\, 98 Moorhouse 
 Avenue\, Christchurch Central\, Time: 4:30PM
SUMMARY:Auction for 
END:VEVENT
END:VCALENDAR
