BEGIN:VCALENDAR
VERSION:2.0
PRODID:icalendar-ruby
CALSCALE:GREGORIAN
BEGIN:VEVENT
DTSTAMP:20260423T160531Z
UID:c7a1dc9c-47f9-47d7-88fa-45f97a0ddd84
DTSTART;VALUE=DATE:20251008
DESCRIPTION:Property ID# 597736\, Locatoin: Harcourts Auction Room\, 1 Thir
 d Avenue\, Tauranga\, Time: 12:00PM
SUMMARY:Auction for 
END:VEVENT
END:VCALENDAR
