BEGIN:VCALENDAR
VERSION:2.0
PRODID:icalendar-ruby
CALSCALE:GREGORIAN
BEGIN:VEVENT
DTSTAMP:20260419T144433Z
UID:abca203f-1155-4d79-a9ba-625eda6f79f3
DTSTART;VALUE=DATE:20250730
DESCRIPTION:Property ID# 594530\, Locatoin: Harcourts Auction Room\, 1 Thir
 d Avenue\, Tauranga\, Time: 11:30AM
SUMMARY:Auction for 
END:VEVENT
END:VCALENDAR
