BEGIN:VCALENDAR
VERSION:2.0
PRODID:icalendar-ruby
CALSCALE:GREGORIAN
BEGIN:VEVENT
DTSTAMP:20260422T083403Z
UID:1977ff20-de51-4429-af56-40bf4bacbe9e
DTSTART;VALUE=DATE:20250611
DESCRIPTION:Property ID# 592997\, Locatoin: Harcourts Auction Rooms\, 1 Thi
 rd Avenue\, Tauranga\, Time: 11:30AM
SUMMARY:Auction for 
END:VEVENT
END:VCALENDAR
