BEGIN:VCALENDAR
VERSION:2.0
PRODID:icalendar-ruby
CALSCALE:GREGORIAN
BEGIN:VEVENT
DTSTAMP:20260421T083301Z
UID:864cb070-ec5f-4fa0-ac06-2f3c7d8f9cd0
DTSTART;VALUE=DATE:20250529
DESCRIPTION:Property ID# 592305\, Locatoin: Grenadier House\, 98 Moorhouse 
 Avenue\, Christchurch City\, Time: 11:00AM
SUMMARY:Auction for 
END:VEVENT
END:VCALENDAR
