BEGIN:VCALENDAR
VERSION:2.0
PRODID:icalendar-ruby
CALSCALE:GREGORIAN
BEGIN:VEVENT
DTSTAMP:20260425T171336Z
UID:9eb51f36-0a82-43a6-ac38-bd1137fefb53
DTSTART;VALUE=DATE:20240516
DESCRIPTION:Property ID# 574970\, Time: 11:00AM
SUMMARY:Auction for 
END:VEVENT
END:VCALENDAR
