BEGIN:VCALENDAR
VERSION:2.0
PRODID:icalendar-ruby
CALSCALE:GREGORIAN
BEGIN:VEVENT
DTSTAMP:20260422T005921Z
UID:157a5f3f-7922-46b7-9034-0305697be29c
DTSTART;VALUE=DATE:20240508
DESCRIPTION:Property ID# 574186\, Locatoin: Harcourts Auction Room\, 1 Thir
 d Avenue\, Tauranga\, Time: 12:30PM
SUMMARY:Auction for 
END:VEVENT
END:VCALENDAR
