BEGIN:VCALENDAR
VERSION:2.0
PRODID:icalendar-ruby
CALSCALE:GREGORIAN
BEGIN:VEVENT
DTSTAMP:20260422T005901Z
UID:74daa9fd-18ce-4267-b63f-705c28ed32c2
DTSTART;VALUE=DATE:20240501
DESCRIPTION:Property ID# 574016\, Locatoin: Harcourts Auction Room\, 1 Thir
 d Avenue\, Tauranga\, Time: 11:30AM
SUMMARY:Auction for 
END:VEVENT
END:VCALENDAR
