BEGIN:VCALENDAR
VERSION:2.0
PRODID:icalendar-ruby
CALSCALE:GREGORIAN
BEGIN:VEVENT
DTSTAMP:20260421T003924Z
UID:94a1375f-6e1a-47f9-ad5e-4cb27097e1b7
DTSTART;VALUE=DATE:20240120
DESCRIPTION:Property ID# 567170\, Time: 2:00PM
SUMMARY:Auction for 
END:VEVENT
END:VCALENDAR
