BEGIN:VCALENDAR
VERSION:2.0
PRODID:icalendar-ruby
CALSCALE:GREGORIAN
BEGIN:VEVENT
DTSTAMP:20260419T121409Z
UID:e3167806-14a9-4f48-995a-736375c9e0ee
DTSTART;VALUE=DATE:20230816
DESCRIPTION:Property ID# 560357\, Locatoin: In rooms\, Tremains Tauranga\, 
 411 Cameron Road\, (unless sold prior)\, Time: 2:00PM
SUMMARY:Auction for 
END:VEVENT
END:VCALENDAR
