BEGIN:VCALENDAR
VERSION:2.0
PRODID:icalendar-ruby
CALSCALE:GREGORIAN
BEGIN:VEVENT
DTSTAMP:20260422T005814Z
UID:eb287106-e03b-4d26-b8f3-7e029fa0eea7
DTSTART;VALUE=DATE:20230216
DESCRIPTION:Property ID# 550660\, Locatoin: Harcourts\, 1 Third Avenue\, Ta
 uranga\, Time: 11:30AM
SUMMARY:Auction for 
END:VEVENT
END:VCALENDAR
