BEGIN:VCALENDAR
VERSION:2.0
PRODID:icalendar-ruby
CALSCALE:GREGORIAN
BEGIN:VEVENT
DTSTAMP:20260424T080603Z
UID:b372f764-e19f-475d-a74f-48a8ccbfb7a7
DTSTART;VALUE=DATE:20220427
DESCRIPTION:Property ID# 533958\, Locatoin: 247 Cameron Road\, Tauranga (un
 less sold prior)\, Time: 1:00PM
SUMMARY:Auction for 
END:VEVENT
END:VCALENDAR
