BEGIN:VCALENDAR
VERSION:2.0
PRODID:icalendar-ruby
CALSCALE:GREGORIAN
BEGIN:VEVENT
DTSTAMP:20260422T110401Z
UID:917dc6f7-56ad-4b19-8abb-5347bbd7f2e9
DTSTART;VALUE=DATE:20211110
DESCRIPTION:Property ID# 519481\, Locatoin: 247 Cameron Road\, Tauranga (un
 less sold prior)\, Time: 1:00PM
SUMMARY:Auction for 
END:VEVENT
END:VCALENDAR
