BEGIN:VCALENDAR
VERSION:2.0
PRODID:icalendar-ruby
CALSCALE:GREGORIAN
BEGIN:VEVENT
DTSTAMP:20260424T091717Z
UID:f0427466-7ce1-475a-bec8-5ccb3ca33ec2
DTSTART;VALUE=DATE:20210804
DESCRIPTION:Property ID# 514095\, Locatoin: 247 Cameron Road\, Tauranga (un
 less sold prior)\, Time: 1:00PM
SUMMARY:Auction for 
END:VEVENT
END:VCALENDAR
