BEGIN:VCALENDAR
VERSION:2.0
PRODID:icalendar-ruby
CALSCALE:GREGORIAN
BEGIN:VEVENT
DTSTAMP:20260422T111320Z
UID:9d85e7cd-2f99-4bf9-871d-e010e0fa7233
DTSTART;VALUE=DATE:20210421
DESCRIPTION:Property ID# 503061\, Locatoin: 247 Cameron Road\, Tauranga (un
 less sold prior)\, Time: 1:00PM
SUMMARY:Auction for 
END:VEVENT
END:VCALENDAR
