BEGIN:VCALENDAR
VERSION:2.0
PRODID:icalendar-ruby
CALSCALE:GREGORIAN
BEGIN:VEVENT
DTSTAMP:20260421T004607Z
UID:a4d21c67-839c-4cd0-bdd3-4153e9c633ff
DTSTART;VALUE=DATE:20210307
DESCRIPTION:Property ID# 501442\, Locatoin: In office First National Waihi 
 Beach\, Time: 1:00PM
SUMMARY:Auction for 
END:VEVENT
END:VCALENDAR
